28.500000000000000
0.000000000000000
0.000000000000000
-28.500000000000000
160597.499999999650754
3878166.000000006984919
